BEGIN:VCALENDAR
VERSION:2.0
PRODID:-//WOU Calendar - ECPv6.15.20//NONSGML v1.0//EN
CALSCALE:GREGORIAN
METHOD:PUBLISH
X-ORIGINAL-URL:https://calendar.wou.edu
X-WR-CALDESC:Events for WOU Calendar
REFRESH-INTERVAL;VALUE=DURATION:PT1H
X-Robots-Tag:noindex
X-PUBLISHED-TTL:PT1H
BEGIN:VTIMEZONE
TZID:UTC
BEGIN:STANDARD
TZOFFSETFROM:+0000
TZOFFSETTO:+0000
TZNAME:UTC
DTSTART:20250101T000000
END:STANDARD
END:VTIMEZONE
BEGIN:VEVENT
DTSTART;VALUE=DATE:20260425
DTEND;VALUE=DATE:20260426
DTSTAMP:20260423T203207
CREATED:20260423T202453Z
LAST-MODIFIED:20260423T232607Z
UID:10001563-1777075200-1777161599@calendar.wou.edu
SUMMARY:Western Oregon University Track & Field at Nancy & Norm Berney Classic
DESCRIPTION:Western Oregon University Track & Field at Nancy & Norm Berney Classic
URL:https://calendar.wou.edu/event/western-oregon-university-track-field-at-nancy-norm-berney-classic/
LOCATION:Salem\, OR
CATEGORIES:Athletics,Track & Field
END:VEVENT
END:VCALENDAR