BEGIN:VCALENDAR
VERSION:2.0
PRODID:-//WOU Calendar - ECPv6.15.20//NONSGML v1.0//EN
CALSCALE:GREGORIAN
METHOD:PUBLISH
X-WR-CALNAME:WOU Calendar
X-ORIGINAL-URL:https://calendar.wou.edu
X-WR-CALDESC:Events for WOU Calendar
REFRESH-INTERVAL;VALUE=DURATION:PT1H
X-Robots-Tag:noindex
X-PUBLISHED-TTL:PT1H
BEGIN:VTIMEZONE
TZID:UTC
BEGIN:STANDARD
TZOFFSETFROM:+0000
TZOFFSETTO:+0000
TZNAME:UTC
DTSTART:20250101T000000
END:STANDARD
END:VTIMEZONE
BEGIN:VEVENT
DTSTART;VALUE=DATE:20260427
DTEND;VALUE=DATE:20260428
DTSTAMP:20260423T184828
CREATED:20260423T202453Z
LAST-MODIFIED:20260423T232626Z
UID:10001566-1777248000-1777334399@calendar.wou.edu
SUMMARY:Western Oregon University Track & Field at GNAC Multis Championship
DESCRIPTION:Western Oregon University Track & Field at GNAC Multis Championship
URL:https://calendar.wou.edu/event/western-oregon-university-track-field-at-gnac-multis-championship-2/
LOCATION:Ellensburg\, WA
CATEGORIES:Athletics,Track & Field
END:VEVENT
BEGIN:VEVENT
DTSTART;VALUE=DATE:20260504
DTEND;VALUE=DATE:20260505
DTSTAMP:20260423T184828
CREATED:20260423T202456Z
LAST-MODIFIED:20260423T232646Z
UID:10001576-1777852800-1777939199@calendar.wou.edu
SUMMARY:Western Oregon University Track & Field at GNAC Outdoor Championships
DESCRIPTION:Western Oregon University Track & Field at GNAC Outdoor Championships
URL:https://calendar.wou.edu/event/western-oregon-university-track-field-at-gnac-outdoor-championships-2/
LOCATION:Ellensburg\, WA
CATEGORIES:Athletics,Track & Field
END:VEVENT
END:VCALENDAR