BEGIN:VCALENDAR
VERSION:2.0
PRODID:-//WOU Calendar - ECPv6.15.20//NONSGML v1.0//EN
CALSCALE:GREGORIAN
METHOD:PUBLISH
X-WR-CALNAME:WOU Calendar
X-ORIGINAL-URL:https://calendar.wou.edu
X-WR-CALDESC:Events for WOU Calendar
REFRESH-INTERVAL;VALUE=DURATION:PT1H
X-Robots-Tag:noindex
X-PUBLISHED-TTL:PT1H
BEGIN:VTIMEZONE
TZID:America/Los_Angeles
BEGIN:DAYLIGHT
TZOFFSETFROM:-0800
TZOFFSETTO:-0700
TZNAME:PDT
DTSTART:20250309T100000
END:DAYLIGHT
BEGIN:STANDARD
TZOFFSETFROM:-0700
TZOFFSETTO:-0800
TZNAME:PST
DTSTART:20251102T090000
END:STANDARD
BEGIN:DAYLIGHT
TZOFFSETFROM:-0800
TZOFFSETTO:-0700
TZNAME:PDT
DTSTART:20260308T100000
END:DAYLIGHT
BEGIN:STANDARD
TZOFFSETFROM:-0700
TZOFFSETTO:-0800
TZNAME:PST
DTSTART:20261101T090000
END:STANDARD
BEGIN:DAYLIGHT
TZOFFSETFROM:-0800
TZOFFSETTO:-0700
TZNAME:PDT
DTSTART:20270314T100000
END:DAYLIGHT
BEGIN:STANDARD
TZOFFSETFROM:-0700
TZOFFSETTO:-0800
TZNAME:PST
DTSTART:20271107T090000
END:STANDARD
END:VTIMEZONE
BEGIN:VEVENT
DTSTART;TZID=America/Los_Angeles:20260429T183000
DTEND;TZID=America/Los_Angeles:20260429T203000
DTSTAMP:20260423T044639
CREATED:20260422T214025Z
LAST-MODIFIED:20260422T214127Z
UID:10001560-1777487400-1777494600@calendar.wou.edu
SUMMARY:Phi Kappa Phi 2026 Induction Ceremony
DESCRIPTION:We invite you to join us on Wednesday\, April 29 at 6:30 pm in the Pacific Room (Werner University Center) for our induction ceremony. This special event welcomes the entire campus community\, encouraging faculty to don regalia if they wish\, though it’s not mandatory. Our newest inductees comprise WOU juniors who rank in the top 7.5% of their class GPA\, and seniors and graduate students who rank in the top 10% of their respective class’s GPA. \nThis year\, we will be hosting a buffet dinner that will immediately follow the induction ceremony. However\, due to limited seating\, we are operating on a first-come\, first-served RSVP basis for the dinner. Please confirm your attendance as soon as possible to secure your seat. \nTo RSVP\, please email mccannr@wou.edu by 3 pm on Thursday\, April 23. Kindly include the names of all attending guests in your response.
URL:https://calendar.wou.edu/event/phi-kappa-phi-2026-induction-ceremony/
LOCATION:WUC Pacific Room\, 400 Monmouth Ave N\, Monmouth\, OR\, Monmouth\, OR\, 97361\, United States
CATEGORIES:Awards and Appreciation
ATTACH;FMTTYPE=image/png:https://calendar.wou.edu/wp-content/uploads/2026/04/phi-kappa-phi.png
END:VEVENT
END:VCALENDAR