BEGIN:VCALENDAR
VERSION:2.0
PRODID:-//WOU Calendar - ECPv6.15.20//NONSGML v1.0//EN
CALSCALE:GREGORIAN
METHOD:PUBLISH
X-WR-CALNAME:WOU Calendar
X-ORIGINAL-URL:https://calendar.wou.edu
X-WR-CALDESC:Events for WOU Calendar
REFRESH-INTERVAL;VALUE=DURATION:PT1H
X-Robots-Tag:noindex
X-PUBLISHED-TTL:PT1H
BEGIN:VTIMEZONE
TZID:America/Los_Angeles
BEGIN:DAYLIGHT
TZOFFSETFROM:-0800
TZOFFSETTO:-0700
TZNAME:PDT
DTSTART:20250309T100000
END:DAYLIGHT
BEGIN:STANDARD
TZOFFSETFROM:-0700
TZOFFSETTO:-0800
TZNAME:PST
DTSTART:20251102T090000
END:STANDARD
BEGIN:DAYLIGHT
TZOFFSETFROM:-0800
TZOFFSETTO:-0700
TZNAME:PDT
DTSTART:20260308T100000
END:DAYLIGHT
BEGIN:STANDARD
TZOFFSETFROM:-0700
TZOFFSETTO:-0800
TZNAME:PST
DTSTART:20261101T090000
END:STANDARD
BEGIN:DAYLIGHT
TZOFFSETFROM:-0800
TZOFFSETTO:-0700
TZNAME:PDT
DTSTART:20270314T100000
END:DAYLIGHT
BEGIN:STANDARD
TZOFFSETFROM:-0700
TZOFFSETTO:-0800
TZNAME:PST
DTSTART:20271107T090000
END:STANDARD
END:VTIMEZONE
BEGIN:VEVENT
DTSTART;VALUE=DATE:20260302
DTEND;VALUE=DATE:20260425
DTSTAMP:20260422T020253
CREATED:20260416T000209Z
LAST-MODIFIED:20260416T000911Z
UID:10001519-1772409600-1777075199@calendar.wou.edu
SUMMARY:Reflections: Paul Meuse & Seth Allen
DESCRIPTION:
URL:https://calendar.wou.edu/event/reflections-paul-meuse-seth-allen/
LOCATION:Hamersly Library Second Floor Art Gallery\, 525 Monmouth Ave N\, Monmouth\, OR\, 97361\, United States
CATEGORIES:Exhibits
ATTACH;FMTTYPE=image/jpeg:https://calendar.wou.edu/wp-content/uploads/2026/04/reflections.jpg
ORGANIZER;CN="Art & Design Department":MAILTO:art@wou.edu
END:VEVENT
BEGIN:VEVENT
DTSTART;VALUE=DATE:20260406
DTEND;VALUE=DATE:20260507
DTSTAMP:20260422T020253
CREATED:20260415T213551Z
LAST-MODIFIED:20260415T213551Z
UID:10001515-1775433600-1778111999@calendar.wou.edu
SUMMARY:History of Graphic Design
DESCRIPTION:An exhibition of student artwork from A308: History of Graphic Design \nArtists included in the exhibit are: Oswaldo Acuna\, Gina Alvarez\, Noel Alvarez\, Kat Ashley\, Sam Carlsen\, Noah Coleman\, Aaron Diaz\, Micah Dillard\, Brelan Dramis\, Toby Gillock\, Percy Griffith\, Jada Harold\, Daniela Hernandez\, Emily Keil\, Grace Lute\, Ellie Morales-Marquez\, Rohan Nelson\, Caspian Price\, Elijah Priddy\, Perla San Miguel Morales\, Sophie Taylor\, Sophia Waldon and Addison Watts
URL:https://calendar.wou.edu/event/history-of-graphic-design/
LOCATION:FLUX SPACE\, 365 Monmouth Ave N #310B\, Monmouth\, Oregon\, 97361\, United States
CATEGORIES:Exhibits
ATTACH;FMTTYPE=image/png:https://calendar.wou.edu/wp-content/uploads/2026/04/history-graphic-design.png
ORGANIZER;CN="Art & Design Department":MAILTO:art@wou.edu
END:VEVENT
BEGIN:VEVENT
DTSTART;TZID=America/Los_Angeles:20260422T110000
DTEND;TZID=America/Los_Angeles:20260422T140000
DTSTAMP:20260422T020253
CREATED:20260417T210413Z
LAST-MODIFIED:20260417T213052Z
UID:10001520-1776855600-1776866400@calendar.wou.edu
SUMMARY:Day in the Garden
DESCRIPTION:Jump into Spring by tending to WOU’s Community Garden! Give back to the community by weeding\, planting\, and beautifying the garden. Snacks will be provided while supplies last. Meet us at the community garden located behind the Student Success Center and Hamersly Library.
URL:https://calendar.wou.edu/event/day-in-the-garden/
LOCATION:WOU Community Garden\, 525 Monmouth Ave N\, Monmouth\, OR\, 97361\, United States
CATEGORIES:Community Service
ATTACH;FMTTYPE=image/png:https://calendar.wou.edu/wp-content/uploads/2026/04/day-in-garden.png
ORGANIZER;CN="Residence Hall Association":MAILTO:rha@wou.edu
END:VEVENT
BEGIN:VEVENT
DTSTART;TZID=America/Los_Angeles:20260422T120000
DTEND;TZID=America/Los_Angeles:20260422T130000
DTSTAMP:20260422T020253
CREATED:20260414T171716Z
LAST-MODIFIED:20260414T171813Z
UID:10001511-1776859200-1776862800@calendar.wou.edu
SUMMARY:Earth Day 2026:  Your Invitation Into A Culture of Newness and Peace
DESCRIPTION:Join us for a discussion with speaker\, teacher\, storyteller\, and writer Mary Sharon Moore. We must cultivate “a Culture of Newness and Peace\,” she says\, because “the Culture of Death is killing us.” \nMary Sharon will share how a simple\, intentional\, sustainable lifestyle has taken shape since her 20s. She promises insights\, stories\, and practical steps to turn your lifestyle into your superpower—for care for the Earth\, and a world that works for everyone. \nSpread the word\, and bring a friend!
URL:https://calendar.wou.edu/event/earth-day-2026-your-invitation-into-a-culture-of-newness-and-peace/
LOCATION:WUC – Willamette Room\, 400 Monmouth Ave N\, Monmouth\, OR\, Monmouth\, OR\, 97361\, United States
CATEGORIES:Symposiums
ATTACH;FMTTYPE=image/jpeg:https://calendar.wou.edu/wp-content/uploads/2026/04/mary-sharon-moore.jpg
ORGANIZER;CN="Social Science Division":MAILTO:ryalss@wou.edu
END:VEVENT
BEGIN:VEVENT
DTSTART;TZID=America/Los_Angeles:20260422T130000
DTEND;TZID=America/Los_Angeles:20260422T140000
DTSTAMP:20260422T020253
CREATED:20260415T205623Z
LAST-MODIFIED:20260415T205623Z
UID:10001514-1776862800-1776866400@calendar.wou.edu
SUMMARY:Earth Day Peace March
DESCRIPTION:Do you care about Mother Earth and the environment? Then bring a sign and come walk with us! \nMeet in front of the Werner University Center for a peaceful assembly and walk along Monmouth Avenue.
URL:https://calendar.wou.edu/event/earth-day-peace-march/
LOCATION:WUC Werner University Center\, 400 Monmouth Ave N\, Monmouth\, Oregon\, 97361\, United States
CATEGORIES:Gatherings
ATTACH;FMTTYPE=image/png:https://calendar.wou.edu/wp-content/uploads/2026/04/earth-day-22-april.png
ORGANIZER;CN="Social Science Division":MAILTO:ryalss@wou.edu
END:VEVENT
BEGIN:VEVENT
DTSTART;TZID=America/Los_Angeles:20260422T153000
DTEND;TZID=America/Los_Angeles:20260422T173000
DTSTAMP:20260422T020253
CREATED:20260325T155411Z
LAST-MODIFIED:20260325T155411Z
UID:10001476-1776871800-1776879000@calendar.wou.edu
SUMMARY:Scholarship Luncheon
DESCRIPTION:The WOU Foundation Scholarship Reception brings together student scholarship  recipients and generous donors for an afternoon of connection and appreciation. This  event provides students the opportunity to share their stories\, express gratitude\, and  build meaningful relationships with those who support their educational journeys.
URL:https://calendar.wou.edu/event/scholarship-luncheon-2026/
LOCATION:WUC Pacific Room\, 400 Monmouth Ave N\, Monmouth\, OR\, Monmouth\, OR\, 97361\, United States
CATEGORIES:Awards and Appreciation
ATTACH;FMTTYPE=image/png:https://calendar.wou.edu/wp-content/uploads/2026/03/scholarship-reception.png
ORGANIZER;CN="WOU Foundation":MAILTO:foundation@wou.edu
END:VEVENT
BEGIN:VEVENT
DTSTART;TZID=America/Los_Angeles:20260422T180000
DTEND;TZID=America/Los_Angeles:20260422T191500
DTSTAMP:20260422T020253
CREATED:20260309T162429Z
LAST-MODIFIED:20260309T162429Z
UID:10001216-1776880800-1776885300@calendar.wou.edu
SUMMARY:Free Meditation Class
DESCRIPTION:Western Oregon University students\, faculty\, & staff- experience deep relaxation & inner peace with mantra meditation\, kirtan\, and Yoga Nidra. \nHey Western Oregon University community: you need to mellow out! Let us help. Experienced meditation teachers. Free class. Easy method. Deep breathing\, guided meditation\, and music. For students\, faculty\, and staff at WOU. We can’t make it any easier for you to find some inner peace. Just drop by\, no need to pre-register.
URL:https://calendar.wou.edu/event/free-meditation-class/2026-04-22/
LOCATION:WUC Santiam Room\, 400 Monmouth Ave N\, Monmouth\, OR\, Monmouth\, OR\, 97361\, United States
CATEGORIES:Workshops
ATTACH;FMTTYPE=image/png:https://calendar.wou.edu/wp-content/uploads/2026/03/kirtan-meditation.png
ORGANIZER;CN="Peaceful Heart Kirtan Meditation":MAILTO:peacefulheartkirtan@gmail.com
END:VEVENT
END:VCALENDAR